BEGIN:VCALENDAR
VERSION:2.0
PRODID:-//ChamberMaster//Event Calendar 2.0//EN
METHOD:PUBLISH
X-PUBLISHED-TTL:P3D
REFRESH-INTERVAL:P3D
CALSCALE:GREGORIAN
BEGIN:VEVENT
DTSTART:20241119T160000Z
DTEND:20241119T190000Z
X-MICROSOFT-CDO-ALLDAYEVENT:FALSE
SUMMARY:Creating Pathways: Navigating the Growth 2024
DESCRIPTION:Join us for an essential conversation on Kootenai County's rapid growth and the challenges and opportunities it brings. This year's panel will feature local experts\, including Jennifer Smock\,Jimmy McAndrew\, and Maggie Lyons\, who will dive into topics on the housing market\, lending rates\, and attainable housing. Don't miss this opportunity to engage with community leaders and collaborate on solutions for our region's future. Register today\, and consider becoming a sponsor!
X-ALT-DESC;FMTTYPE=text/html:<p dir="ltr" style="line-height:1.7999999999999998\;text-align: center\;margin-top:0pt\;margin-bottom:0pt\;"><span id="docs-internal-guid-ffa7396f-7fff-5ec8-4a43-b023fc80fb31"><span style="font-size: 13pt\; font-family: &quot\;DM Sans&quot\;\, sans-serif\; color: rgb(0\, 0\, 0)\; background-color: transparent\; font-variant-numeric: normal\; font-variant-east-asian: normal\; font-variant-alternates: normal\; font-variant-position: normal\; vertical-align: baseline\; white-space-collapse: preserve\;">Join us for an essential conversation on Kootenai County&rsquo\;s rapid growth and the challenges and opportunities it brings. This year&rsquo\;s panel will feature local experts\, including Jennifer Smock\,Jimmy McAndrew\, and Maggie Lyons\, who will dive into topics on the housing market\, lending rates\, and attainable housing. Don&rsquo\;t miss this opportunity to engage with community leaders and collaborate on solutions for our region&rsquo\;s future. Register today\, and consider becoming a sponsor!</span></span></p>\n\n<div>&nbsp\;</div>\n
LOCATION:Best Western Plus Coeur d'Alene Inn 506 W. Appleway Ave. Coeur d'Alene\, ID 83814
UID:e.843.30404
SEQUENCE:3
DTSTAMP:20260420T005952Z
URL:http://cdachamber.chambermaster.com/events/details/creating-pathways-navigating-the-growth-2024-30404
END:VEVENT

END:VCALENDAR
