BEGIN:VCALENDAR
VERSION:2.0
PRODID:-//ChamberMaster//Event Calendar 2.0//EN
METHOD:PUBLISH
X-PUBLISHED-TTL:P3D
REFRESH-INTERVAL:P3D
CALSCALE:GREGORIAN
BEGIN:VEVENT
DTSTART:20241017T000000Z
DTEND:20241017T030000Z
X-MICROSOFT-CDO-ALLDAYEVENT:FALSE
SUMMARY:EnVision- Safe Passage
DESCRIPTION:Join us for an evening of unity and hope as we stand together against violence. Through our combined efforts\, we are building a community free from harm. Inspired by a powerful testimony of hope\, we aim to elevate our impact and pave a path forward. Let us come together to make a difference. \n\n\n\nSafe Passage - EnVISION a community free from violence! (networkforgood.com)
X-ALT-DESC;FMTTYPE=text/html:Join us for an evening of unity and hope as we stand together against violence. Through our combined efforts\, we are building a community free from harm. Inspired by a powerful testimony of hope\, we aim to elevate our impact and pave a path forward. Let us come together to make a difference.&nbsp\;<br />\n<br />\n<a href="https://safe-passage-4d61b6.networkforgood.com/events/74430-envision">Safe Passage - EnVISION a community free from violence! (networkforgood.com)</a>
LOCATION:Coeur d' Alene Resort
UID:e.843.31863
SEQUENCE:3
DTSTAMP:20260421T113005Z
URL:http://cdachamber.chambermaster.com/events/details/envision-31863
END:VEVENT

END:VCALENDAR
