BEGIN:VCALENDAR
VERSION:2.0
PRODID:-//ChamberMaster//Event Calendar 2.0//EN
METHOD:PUBLISH
X-PUBLISHED-TTL:P3D
REFRESH-INTERVAL:P3D
CALSCALE:GREGORIAN
BEGIN:VEVENT
DTSTART:20241130T023000Z
DTEND:20241130T053000Z
X-MICROSOFT-CDO-ALLDAYEVENT:FALSE
SUMMARY:Eric E.
DESCRIPTION:Chinook Lounge\n\nNovember 29th & 30th\n\n6:30 pm   9:30 pm\n\nEric E. is a dynamic performer with a unique ability to engage his audience and make them feel personally involved. With only an acoustic guitar and a clear tenor voice\, he performs songs that are remembered and loved by listeners of all ages\, as well as penetrating original numbers. Eric desires to communicate on a deep level\, transparently sharing his spirituality\, life experiences\, hopes and fears\, in a spontaneous\, candid\, and often humorous way that plants itself deeply in the memory of each listener.
X-ALT-DESC;FMTTYPE=text/html:<div>\n<div>\n<h4>Chinook Lounge</h4>\n\n<p><strong>November 29th &amp\; 30th</strong></p>\n\n<p><strong>6:30 pm &ndash\; 9:30 pm</strong></p>\n\n<p>Eric E. is a dynamic performer with a unique ability to engage his audience and make them feel personally involved. With only an acoustic guitar and a clear tenor voice\, he performs songs that are remembered and loved by listeners of all ages\, as well as penetrating original numbers. Eric desires to communicate on a deep level\, transparently sharing his spirituality\, life experiences\, hopes and fears\, in a spontaneous\, candid\, and often humorous way that plants itself deeply in the memory of each listener.</p>\n</div>\n</div>\n
LOCATION:Coeur d'Alene Casino Resort Hotel 37914 S Nukwalqw Rd Worley\, ID 83876 United States + Google Map
UID:e.843.32041
SEQUENCE:3
DTSTAMP:20260420T020056Z
URL:http://cdachamber.chambermaster.com/events/details/eric-e-32041
END:VEVENT

END:VCALENDAR
