BEGIN:VCALENDAR
VERSION:2.0
PRODID:-//ChamberMaster//Event Calendar 2.0//EN
METHOD:PUBLISH
X-PUBLISHED-TTL:P3D
REFRESH-INTERVAL:P3D
CALSCALE:GREGORIAN
BEGIN:VEVENT
DTSTART:20250529T020000Z
DTEND:20250529T040000Z
X-MICROSOFT-CDO-ALLDAYEVENT:FALSE
SUMMARY:"HEY EINSTEIN" Trivia Night Benefiting Safe Start
DESCRIPTION:Hey Einstein!\n\nGet ready for Safe Start's first-ever Trivia Night! Join us at our favorite local watering hole\, The Bee's Knees in Hayden\, Idaho\, on May 28\, 2025\, at 7 PM for a trivia night unlike any other.\n\nWe've got the perfect recipe for an unforgettable evening: a ton of laughs\, incredible cocktails\, and a side of feel-good fun. And the best part? It's all in the pursuit of eternal glory. Sounds like a night you don't want to miss!\n\nAll proceeds from this event support Safe Start's childhood injury prevention education programs\, providing no-cost safety classes and vital resources to thousands of children\, parents\, and caregivers in our community.\n\nSo\, gather your dream team of four and sign up today! Space is limited to the first 12 teams\, so don't wait!
X-ALT-DESC;FMTTYPE=text/html:<div>Hey Einstein!</div>\n\n<div>Get ready for Safe Start&rsquo\;s first-ever Trivia Night! Join us at our favorite local watering hole\, The Bee&rsquo\;s Knees in Hayden\, Idaho\, on May 28\, 2025\, at 7 PM for a trivia night unlike any other.</div>\n\n<div>We&rsquo\;ve got the perfect recipe for an unforgettable evening: a ton of laughs\, incredible cocktails\, and a side of feel-good fun. And the best part? It&rsquo\;s all in the pursuit of eternal glory. Sounds like a night you don&rsquo\;t want to miss!</div>\n\n<div>All proceeds from this event support Safe Start&rsquo\;s childhood injury prevention education programs\, providing no-cost safety classes and vital resources to thousands of children\, parents\, and caregivers in our community.</div>\n\n<div>So\, gather your dream team of four and sign up today! Space is limited to the first 12 teams\, so don&rsquo\;t wait!</div>\n
LOCATION:Bees Knees Whiskey Bar 324 West Lancaster Road Hayden\, ID
UID:e.843.32209
SEQUENCE:3
DTSTAMP:20260423T042025Z
URL:http://cdachamber.chambermaster.com/events/details/hey-einstein-trivia-night-benefiting-safe-start-32209
END:VEVENT

END:VCALENDAR
