BEGIN:VCALENDAR
VERSION:2.0
PRODID:-//ChamberMaster//Event Calendar 2.0//EN
METHOD:PUBLISH
X-PUBLISHED-TTL:P3D
REFRESH-INTERVAL:P3D
CALSCALE:GREGORIAN
BEGIN:VEVENT
DTSTART:20240820T164500Z
DTEND:20240820T193000Z
X-MICROSOFT-CDO-ALLDAYEVENT:FALSE
SUMMARY:Indian Cliffs Hike
DESCRIPTION:Tuesday\, August 20th\, 2024\n\n9:45 AM   12:30 PM | $35 per person\n\nIndian Cliff Hike Nature Trail Tour is an intermediate guided 3 mile trail with a steep climb then levels out at the top into a downhill descent. Enjoy views of 2 lakes and the St. Joe River\, Coeur d' Alene Tribal storytelling\, song and drum.\n\nMeet at the Mountain Lodge Hotel Lobby by 9:45 am.\n\nDepart Coeur d'Alene Casino to Heyburn State Park at 10 am.\n\nReturn from Heyburn State Park at 12:30 pm.
X-ALT-DESC;FMTTYPE=text/html:<p><strong>Tuesday\, August 20th\, 2024</strong></p>\n\n<p><strong>9:45 AM &ndash\; 12:30 PM | $35 per person</strong></p>\n\n<p>Indian Cliff Hike Nature Trail Tour is an intermediate guided 3 mile trail with a steep climb then levels out at the top into a downhill descent. Enjoy views of 2 lakes and the St. Joe River\, Coeur d&rsquo\; Alene Tribal storytelling\, song and drum.</p>\n\n<p>Meet at the Mountain Lodge Hotel Lobby by 9:45 am.<br />\nDepart Coeur d&rsquo\;Alene Casino to Heyburn State Park at 10 am.<br />\nReturn from Heyburn State Park at 12:30 pm.</p>\n
LOCATION:Heyburn State Park
UID:e.843.31593
SEQUENCE:3
DTSTAMP:20260422T234326Z
URL:http://cdachamber.chambermaster.com/events/details/indian-cliffs-hike-31593
END:VEVENT

END:VCALENDAR
