BEGIN:VCALENDAR
VERSION:2.0
PRODID:-//ChamberMaster//Event Calendar 2.0//EN
METHOD:PUBLISH
X-PUBLISHED-TTL:P3D
REFRESH-INTERVAL:P3D
CALSCALE:GREGORIAN
BEGIN:VEVENT
DTSTART:20240914T013000Z
DTEND:20240914T043000Z
X-MICROSOFT-CDO-ALLDAYEVENT:FALSE
SUMMARY:Nick Weibe
DESCRIPTION:Chinook Lounge\n\nSeptember 13th & 14th \n\n6:30 PM   9:30 PM\n\nSpend a relaxing evening at the Chinook Lounge while enjoying acoustic covers from the talented artist\, Nick Wiebe!
X-ALT-DESC;FMTTYPE=text/html:<div>\n<div>\n<h4>Chinook Lounge</h4>\n\n<p><strong>September 13th &amp\; 14th&nbsp\;</strong></p>\n\n<p><strong>6:30 PM &ndash\; 9:30 PM</strong></p>\n\n<p>Spend a relaxing evening at the Chinook Lounge while enjoying acoustic covers from the talented artist\,&nbsp\;Nick Wiebe!</p>\n</div>\n</div>\n
LOCATION:Coeur d'Alene Casino Resort Hotel 37914 S Nukwalqw Rd Worley\, ID 83876 United States + Google Map
UID:e.843.31864
SEQUENCE:3
DTSTAMP:20260420T222015Z
URL:http://cdachamber.chambermaster.com/events/details/nick-weibe-31864
END:VEVENT

END:VCALENDAR
