BEGIN:VCALENDAR
VERSION:2.0
PRODID:-//ChamberMaster//Event Calendar 2.0//EN
METHOD:PUBLISH
X-PUBLISHED-TTL:P3D
REFRESH-INTERVAL:P3D
CALSCALE:GREGORIAN
BEGIN:VEVENT
DTSTART:20240913T020000Z
DTEND:20240913T050000Z
X-MICROSOFT-CDO-ALLDAYEVENT:FALSE
SUMMARY:Parmalee
DESCRIPTION:THURSDAY\, SEPTEMBER 12TH\, 2024\n\n7 PM | $70 and UP\n\nGet your tickets now!\n\n \n\n\n\nMust be age 18 or older to attend concerts. Purchase tickets at cdacasino.com\, the Casino Box Office\, or through the CDA Casino App. Call 1 800-523-2464 for more details.
X-ALT-DESC;FMTTYPE=text/html:<p>THURSDAY\, SEPTEMBER 12TH\, 2024<br />\n7 PM | $70 and UP</p>\n\n<p>Get your tickets now!</p>\n\n<p>&nbsp\;</p>\n\n<div>\n<div>\n<p>Must be age 18 or older to attend concerts. Purchase tickets at cdacasino.com\, the Casino Box Office\, or through the CDA Casino App. Call 1 800-523-2464 for more details.</p>\n</div>\n</div>\n\n<div>\n<div>\n<div>\n<div>\n<div>\n<div>&nbsp\;</div>\n</div>\n</div>\n</div>\n</div>\n</div>\n
LOCATION:Coeur d'Alene Casino Resort Hotel 37914 S Nukwalqw Rd Worley\, ID 83876 United States + Google Map
UID:e.843.30982
SEQUENCE:3
DTSTAMP:20260421T051110Z
URL:http://cdachamber.chambermaster.com/events/details/parmalee-30982
END:VEVENT

END:VCALENDAR
