BEGIN:VCALENDAR
VERSION:2.0
PRODID:-//ChamberMaster//Event Calendar 2.0//EN
METHOD:PUBLISH
X-PUBLISHED-TTL:P3D
REFRESH-INTERVAL:P3D
CALSCALE:GREGORIAN
BEGIN:VEVENT
DTSTART:20241018T003000Z
DTEND:20241018T033000Z
X-MICROSOFT-CDO-ALLDAYEVENT:FALSE
SUMMARY:Safer Schools Fall Gala
DESCRIPTION:Please join us for the Safer Schools Fall Gala \n\nSafer Kids\, Safer Schools\, Safer Communities\n\nWhen:  October 17\, 2024\n\nTime:    5:30 PM - 8:30PM\n\nWhere:  Red Lion Templin's on the river\, 414 E. 1st Ave\, Post Falls\, ID 83854\n\nCost:     $55.00 per ticket or $440 for table of 8 dinner included\n\nWhy:      We need people like us (PLU) to stand together to stop school violence.  School safety is not just a priority\, it's a community effort.  we need help from people like us (YOU) - people who care\, people who believe in the power of education\, awareness and action! By joining forces with the Panacea Alliance Foundation\, we can work to create safer schools.  Now more than ever\, we must come together as a community and support school safety.  Let's all be the change we want to see\, and ensure that every student\, teacher and staff member feel safe at school PLU can make a difference.  Join us for this dinner event and learn more about how you can help.  Tickets are $55.00 per person and includes dinner\, or you can by a table of eight\, $440.00.
X-ALT-DESC;FMTTYPE=text/html:Please join us for the Safer Schools Fall Gala&nbsp\;<br />\n<em><strong>Safer Kids\, Safer Schools\, Safer Communities</strong></em><br />\n<strong>When:&nbsp\;</strong> October 17\, 2024<br />\n<strong>Time:&nbsp\;</strong> &nbsp\; 5:30 PM - 8:30PM<br />\n<strong>Where:</strong>&nbsp\; Red Lion Templin&#39\;s on the river\, 414 E. 1st Ave\, Post Falls\, ID 83854<br />\n<strong>Cost:&nbsp\; </strong>&nbsp\; &nbsp\;$55.00 per ticket or $440 for table of 8 dinner included<br />\n<strong>Why:</strong>&nbsp\; &nbsp\; &nbsp\; <em>We need <u><strong>people like us</strong></u> (PLU) to stand together to stop school violence.&nbsp\; School safety is not just a priority\, it&#39\;s a community effort.&nbsp\; we need help from people&nbsp\;like us (<strong>YOU</strong>) - people who care\, people who believe in the power of education\, awareness and action! By joining forces with the Panacea Alliance Foundation\, we can work to create safer schools.&nbsp\; Now more than ever\, we must come together as a community and support school safety.&nbsp\; Let&#39\;s all be the change we want to see\, and ensure that every student\, teacher and staff member feel safe at school <strong>PLU </strong>can make a difference.&nbsp\; Join us for this dinner event and learn more about how you can help.&nbsp\; <strong>Tickets are $55.00 per person and includes dinner\, or you can by a table of eight\, $440.00.&nbsp\;&nbsp\;</strong></em>
LOCATION:The Red Lion Templin's by the River 414 E 1st Ave\, Post Falls ID 83854
UID:e.843.32004
SEQUENCE:3
DTSTAMP:20260421T113005Z
URL:http://cdachamber.chambermaster.com/events/details/safer-schools-fall-gala-32004
END:VEVENT

END:VCALENDAR
